BEGIN:VCALENDAR
VERSION:2.0
PRODID:-//Raum für Alexandertechnik - ECPv6.15.20//NONSGML v1.0//EN
CALSCALE:GREGORIAN
METHOD:PUBLISH
X-WR-CALNAME:Raum für Alexandertechnik
X-ORIGINAL-URL:https://alexandertechnik-paderborn.de
X-WR-CALDESC:Veranstaltungen für Raum für Alexandertechnik
REFRESH-INTERVAL;VALUE=DURATION:PT1H
X-Robots-Tag:noindex
X-PUBLISHED-TTL:PT1H
BEGIN:VTIMEZONE
TZID:Europe/Berlin
BEGIN:DAYLIGHT
TZOFFSETFROM:+0100
TZOFFSETTO:+0200
TZNAME:CEST
DTSTART:20240331T010000
END:DAYLIGHT
BEGIN:STANDARD
TZOFFSETFROM:+0200
TZOFFSETTO:+0100
TZNAME:CET
DTSTART:20241027T010000
END:STANDARD
BEGIN:DAYLIGHT
TZOFFSETFROM:+0100
TZOFFSETTO:+0200
TZNAME:CEST
DTSTART:20250330T010000
END:DAYLIGHT
BEGIN:STANDARD
TZOFFSETFROM:+0200
TZOFFSETTO:+0100
TZNAME:CET
DTSTART:20251026T010000
END:STANDARD
BEGIN:DAYLIGHT
TZOFFSETFROM:+0100
TZOFFSETTO:+0200
TZNAME:CEST
DTSTART:20260329T010000
END:DAYLIGHT
BEGIN:STANDARD
TZOFFSETFROM:+0200
TZOFFSETTO:+0100
TZNAME:CET
DTSTART:20261025T010000
END:STANDARD
BEGIN:DAYLIGHT
TZOFFSETFROM:+0100
TZOFFSETTO:+0200
TZNAME:CEST
DTSTART:20270328T010000
END:DAYLIGHT
BEGIN:STANDARD
TZOFFSETFROM:+0200
TZOFFSETTO:+0100
TZNAME:CET
DTSTART:20271031T010000
END:STANDARD
END:VTIMEZONE
BEGIN:VEVENT
DTSTART;TZID=Europe/Berlin:20251227T084500
DTEND;TZID=Europe/Berlin:20260101T101500
DTSTAMP:20260421T004922
CREATED:20251222T123350Z
LAST-MODIFIED:20251222T123610Z
UID:2237-1766825100-1767262500@alexandertechnik-paderborn.de
SUMMARY:Auszeit zwischen den Jahren: Online-Retreat
DESCRIPTION:Raum für Rückzug\, Besinnung und Verkörperung \n\n\n\n27.- 31. Dezember\, jeweils 8:45 bis 9:30 und 19:00 bis 19:20 Uhr. \n\n\n\nKomme einfach dazu\, wie es für Dich passt. Du kannst also jeden Tag dabei sein oder auch nur einmal. Morgens gibt es angeleitete Angebote und abends laden wir zu einer gemeinsamen Stille ein. Vielleicht magst Du die Zeit dazwischen für Dich selbst als Einkehrtage gestalten. \n\n\n\nSamstag 27. Dezember: Das alte Jahr gehen lassen (Andi). Bitte Stift und Papier mitbringen. \n\n\n\nSonntag 28. Dezember: Tai Chi (Ina) \n\n\n\nMontag 29. Dezember: EcoNidra (flo*): Eine Reise im Liegen durch unsere Sinne\, unseren Körper und unsere Erde. \n\n\n\nDienstag\, 30. Dezember: Lichtmeditation (Anne) \n\n\n\nMittwoch 31. Dezember: Naad Yoga: Raags und Mantren für das neue Jahr (Andi) \n\n\n\nDonnerstag 1. Januar: Open Space (Anne und einfach schön): Ein Raum\, in dem Du Dich bei Dir zu Hause nach Herzenslust bewegen kannst. Virtuell verbunden mit anderen. Musikalisch begleitet vom trio einfach schön. 45 Minuten Klang und Bewegung\, dann Zeit zum Malen/Schreiben/Mitteilen und anschließend gemeinsame Stille. \n\n\n\nWir teilen gerne\, was uns gut tut! Unsere offenen Angebote sind unser Geschenk an Dich und unsere Welt – wir freuen uns\, wenn Du das nimmst\, was Du brauchst. Wir bedanken uns für Dein Vertrauen\, unsere Gemeinschaft und die Unterstützung im vergangenen Jahr. Wer uns noch etwas schenken möchte\, kann es gerne über PayPal.Me/TillFloK tun oder die Bankdaten unter ganzohr@waldeslauschen.de erfragen. Dort bekommst Du auch den Online-Zugang.
URL:https://alexandertechnik-paderborn.de/termin/auszeit-zwischen-den-jahren-online-retreat-2/
LOCATION:Online
CATEGORIES:Termine
ATTACH;FMTTYPE=image/jpeg:https://alexandertechnik-paderborn.de/wp-content/uploads/2022/12/IMG_2022_wintersonnenwende-scaled.jpg
ORGANIZER;CN="Till flo* Krapoth":MAILTO:ganzohr@waldeslauschen.de
END:VEVENT
BEGIN:VEVENT
DTSTART;TZID=Europe/Berlin:20260112T173000
DTEND;TZID=Europe/Berlin:20260112T181500
DTSTAMP:20260421T004922
CREATED:20251107T124753Z
LAST-MODIFIED:20251107T130428Z
UID:2204-1768239000-1768241700@alexandertechnik-paderborn.de
SUMMARY:Simply Somatics
DESCRIPTION:Den Boden spüren\, sich tragen lassen\, neue Aufrichtung entdecken. Einfach wohltuend. Angeleitete Liegesession auf der Basis von Release Technique\, Alexandertechnik und frühkindlichen Bewegungsabläufen. Online Teilnahme möglich.  \n\n\n\nMontags – 10 Termine bis den 16. März.  Max. 5 Teilnehmer:innen in präsenz.
URL:https://alexandertechnik-paderborn.de/termin/simply-somatics-online/
LOCATION:Raum für Alexandertechnik\, Rotheweg 7a\, Paderborn\, 33102\, Deutschland
CATEGORIES:Termine
ATTACH;FMTTYPE=image/jpeg:https://alexandertechnik-paderborn.de/wp-content/uploads/2021/03/20210225_105621-scaled.jpg
END:VEVENT
BEGIN:VEVENT
DTSTART;TZID=Europe/Berlin:20260117T140000
DTEND;TZID=Europe/Berlin:20260117T170000
DTSTAMP:20260421T004922
CREATED:20251211T102632Z
LAST-MODIFIED:20251211T105216Z
UID:2221-1768658400-1768669200@alexandertechnik-paderborn.de
SUMMARY:Annehmen und Abgeben
DESCRIPTION:Intensivworkshops für Menschen mit Vorerfahrung. Max. 4 Teilnehmer:innen. \n\n\n\n17.01.26 Annehmen und Abgeben \n\n\n\n16.05.26 Vom Herzen Sprechen \n\n\n\n27.06.26 Für sich Selbst ein-Stehen \n\n\n\n11.07.26 Mit meinen Händen \n\n\n\nAuch als Block buchbar: 300€
URL:https://alexandertechnik-paderborn.de/termin/annehmen-und-abgeben/
LOCATION:Raum für Alexandertechnik\, Rotheweg 7a\, Paderborn\, 33102\, Deutschland
CATEGORIES:Termine
ATTACH;FMTTYPE=image/jpeg:https://alexandertechnik-paderborn.de/wp-content/uploads/2024/11/IMG_3573-rotated.jpg
ORGANIZER;CN="Anne Pommier":MAILTO:info@anne-pommier.com
END:VEVENT
END:VCALENDAR