BEGIN:VCALENDAR
VERSION:2.0
PRODID:-//Raum für Alexandertechnik - ECPv6.15.20//NONSGML v1.0//EN
CALSCALE:GREGORIAN
METHOD:PUBLISH
X-WR-CALNAME:Raum für Alexandertechnik
X-ORIGINAL-URL:https://alexandertechnik-paderborn.de
X-WR-CALDESC:Veranstaltungen für Raum für Alexandertechnik
REFRESH-INTERVAL;VALUE=DURATION:PT1H
X-Robots-Tag:noindex
X-PUBLISHED-TTL:PT1H
BEGIN:VTIMEZONE
TZID:Europe/Berlin
BEGIN:DAYLIGHT
TZOFFSETFROM:+0100
TZOFFSETTO:+0200
TZNAME:CEST
DTSTART:20240331T010000
END:DAYLIGHT
BEGIN:STANDARD
TZOFFSETFROM:+0200
TZOFFSETTO:+0100
TZNAME:CET
DTSTART:20241027T010000
END:STANDARD
BEGIN:DAYLIGHT
TZOFFSETFROM:+0100
TZOFFSETTO:+0200
TZNAME:CEST
DTSTART:20250330T010000
END:DAYLIGHT
BEGIN:STANDARD
TZOFFSETFROM:+0200
TZOFFSETTO:+0100
TZNAME:CET
DTSTART:20251026T010000
END:STANDARD
BEGIN:DAYLIGHT
TZOFFSETFROM:+0100
TZOFFSETTO:+0200
TZNAME:CEST
DTSTART:20260329T010000
END:DAYLIGHT
BEGIN:STANDARD
TZOFFSETFROM:+0200
TZOFFSETTO:+0100
TZNAME:CET
DTSTART:20261025T010000
END:STANDARD
END:VTIMEZONE
BEGIN:VEVENT
DTSTART;TZID=Europe/Berlin:20250725T190000
DTEND;TZID=Europe/Berlin:20250727T120000
DTSTAMP:20260423T091920
CREATED:20250602T091642Z
LAST-MODIFIED:20250620T085019Z
UID:2138-1753470000-1753617600@alexandertechnik-paderborn.de
SUMMARY:Moving spaces\, resting places
DESCRIPTION:A playful\, authentic movement practice for those with or without previous experience.  \n\n\n\n\nPractising receiving… just being… becoming grounded…. allowing a particular place to be there for us….discovering its qualities. \n\n\n\n\n\nI invite you to discover movement impulses that arise out of stillness and in response to the surroundings of this special place of Westbury Wildlife Park. Together we will explore our influence on the space and those we share it with.  \n\n\n\n\n\nOpening the senses\, allowing ourselves to be touched by our every day surroundings. Even in stillness we can experience ourselves as living creatures in the space. \n\n\n\n\n\nAnne Pommier is a movement artist and Alexander Technique teacher. Her current project “Resting Places\, Moving Spaces” has evolved out of her regular improvisation practice\, as well as her experiences of „Standing with the Earth“ in her home town of Paderborn. Consciously engaging with a place raises our awareness and encourages mindfulness for the spaces we inhabit as well as affecting those around us. \n\n\n\nRegistration by email:  \n\n\n\nmail@anne-pommier.com \n\n\n\nDeposit of 70 pounds to confirm your place.
URL:https://alexandertechnik-paderborn.de/termin/moving-spaces-resting-places/
LOCATION:Westbury Wildlife Centre\, Bristol\, UK.\, Trym Road\, Bristol\, United Kingdom
CATEGORIES:Termine
ATTACH;FMTTYPE=image/jpeg:https://alexandertechnik-paderborn.de/wp-content/uploads/2025/06/Pilgrimage.jpeg
ORGANIZER;CN="Anne Pommier":MAILTO:info@anne-pommier.com
END:VEVENT
END:VCALENDAR