BEGIN:VCALENDAR
VERSION:2.0
PRODID:-//Raum für Alexandertechnik - ECPv6.15.20//NONSGML v1.0//EN
CALSCALE:GREGORIAN
METHOD:PUBLISH
X-ORIGINAL-URL:https://alexandertechnik-paderborn.de
X-WR-CALDESC:Veranstaltungen für Raum für Alexandertechnik
REFRESH-INTERVAL;VALUE=DURATION:PT1H
X-Robots-Tag:noindex
X-PUBLISHED-TTL:PT1H
BEGIN:VTIMEZONE
TZID:Europe/Berlin
BEGIN:DAYLIGHT
TZOFFSETFROM:+0100
TZOFFSETTO:+0200
TZNAME:CEST
DTSTART:20230326T010000
END:DAYLIGHT
BEGIN:STANDARD
TZOFFSETFROM:+0200
TZOFFSETTO:+0100
TZNAME:CET
DTSTART:20231029T010000
END:STANDARD
BEGIN:DAYLIGHT
TZOFFSETFROM:+0100
TZOFFSETTO:+0200
TZNAME:CEST
DTSTART:20240331T010000
END:DAYLIGHT
BEGIN:STANDARD
TZOFFSETFROM:+0200
TZOFFSETTO:+0100
TZNAME:CET
DTSTART:20241027T010000
END:STANDARD
BEGIN:DAYLIGHT
TZOFFSETFROM:+0100
TZOFFSETTO:+0200
TZNAME:CEST
DTSTART:20250330T010000
END:DAYLIGHT
BEGIN:STANDARD
TZOFFSETFROM:+0200
TZOFFSETTO:+0100
TZNAME:CET
DTSTART:20251026T010000
END:STANDARD
END:VTIMEZONE
BEGIN:VEVENT
DTSTART;TZID=Europe/Berlin:20241106T103000
DTEND;TZID=Europe/Berlin:20241106T113000
DTSTAMP:20260425T212558
CREATED:20240527T122247Z
LAST-MODIFIED:20241008T080326Z
UID:1979-1730889000-1730892600@alexandertechnik-paderborn.de
SUMMARY:Standing with the earth
DESCRIPTION:Standing with the Earth ist ein Aufruf zum gemeinsamen Innehalten und Wahrnehmen in Zeiten tiefgrei­fender Krise und Ratlosigkeit.  \n\n\n\nMit einer Einführung ab 10:30 Uhr und Gehmeditation. Wir treffen uns an der Stadtbibliothek und gehen gemeinsam in Stille zum Marktplatz. \n\n\n\n„Wir können den so dringend nötigen Wandel nicht per Kraftakt herbei­führen. Der Weisheit zu lauschen\, die allem Lebendigen innewohnt\, kann uns helfen\, weder in lähmende Verzweiflung\, noch in blinden Aktionismus zu verfallen. Die Verbun­denheit mit der Erde wieder spüren – das gehört im Moment vielleicht zum Radikalsten was wir tun können: zärtlich\, solidarisch und unbeirrbar. \n\n\n\nWir stehen mit der Erde. Wir verlangsamen\, wir spüren was ist\, werden gegenwärtig \, erleben uns als untrennbarer Teil des Organismus Erde. Ganz allmählich wachsen und sinken wir in das Bewusstsein hinein\, dass wir als die Erde dastehen.“ \n\n\n\nhttps://wahrnehmen.org/standingwiththeearth
URL:https://alexandertechnik-paderborn.de/termin/standing-with-the-earth/
LOCATION:Marktplatz\, Paderborn
CATEGORIES:Termine
ATTACH;FMTTYPE=image/jpeg:https://alexandertechnik-paderborn.de/wp-content/uploads/2024/05/standing_feet-e1733260225841.jpeg
ORGANIZER;CN="Anne Pommier":MAILTO:info@anne-pommier.com
END:VEVENT
BEGIN:VEVENT
DTSTART;TZID=Europe/Berlin:20241113T180000
DTEND;TZID=Europe/Berlin:20241113T200000
DTSTAMP:20260425T212558
CREATED:20241029T061522Z
LAST-MODIFIED:20241029T075103Z
UID:2034-1731520800-1731528000@alexandertechnik-paderborn.de
SUMMARY:Weniger ist mehr
DESCRIPTION:Coaching-Reihe für Menschen die beruflich mit Berührung arbeiten. Physiotherapeut:innen\, Hebammen\, Masseur:innen. Was hat der Ansatz der Alexandertechnik zu bieten? Max. 5 Teilnehmer:innen.
URL:https://alexandertechnik-paderborn.de/termin/weniger-ist-mehr-coaching-reihe-fuer-menschen-die/
LOCATION:Raum für Alexandertechnik\, Rotheweg 7a\, Paderborn\, 33102\, Deutschland
CATEGORIES:Termine
ATTACH;FMTTYPE=image/jpeg:https://alexandertechnik-paderborn.de/wp-content/uploads/2022/09/anne_claire.jpg
ORGANIZER;CN="Anne Pommier":MAILTO:info@anne-pommier.com
END:VEVENT
BEGIN:VEVENT
DTSTART;TZID=Europe/Berlin:20241130T140000
DTEND;TZID=Europe/Berlin:20241130T170000
DTSTAMP:20260425T212558
CREATED:20240606T103823Z
LAST-MODIFIED:20241009T111850Z
UID:1997-1732975200-1732986000@alexandertechnik-paderborn.de
SUMMARY:Contact Improvisation
DESCRIPTION:Bei der Contact-Impro kommen zwei oder mehr Menschen zusammen\, um gemeinsam den Bewegungsfluss zu folgen und ein dynamisches Gleichgewicht zu finden. Führen\, folgen\, tragen und getragen werden wechseln sich ab. Beim Spiel mit den Tanzelementen Körper\, Bewegung und Schwerkraft kommen wir immer mehr in die Gegenwart. Mehr infos zu meine Tanzangebote hier. \n\n\n\nDer Zugang zum Raum ist für Rollstuhlfahrer nicht völlig Barrierefrei\, es sind wenige Treppen und die Toilette ist nur über den Schulhof zu erreichen. \n\n\n\nDie Anmeldung erfolgt über die VHS Paderborn.
URL:https://alexandertechnik-paderborn.de/termin/contact-improvisation/
LOCATION:VHS Standort Riemeke\, Erzbergerstr. 26\, Paderborn\, 33102\, Deutschland
CATEGORIES:Termine
ATTACH;FMTTYPE=image/png:https://alexandertechnik-paderborn.de/wp-content/uploads/2017/10/cropped-kontakt-impro1.png
ORGANIZER;CN="Anne Pommier":MAILTO:info@anne-pommier.com
END:VEVENT
END:VCALENDAR