BEGIN:VCALENDAR
VERSION:2.0
PRODID:-//Raum für Alexandertechnik - ECPv6.15.20//NONSGML v1.0//EN
CALSCALE:GREGORIAN
METHOD:PUBLISH
X-ORIGINAL-URL:https://alexandertechnik-paderborn.de
X-WR-CALDESC:Veranstaltungen für Raum für Alexandertechnik
REFRESH-INTERVAL;VALUE=DURATION:PT1H
X-Robots-Tag:noindex
X-PUBLISHED-TTL:PT1H
BEGIN:VTIMEZONE
TZID:Europe/Berlin
BEGIN:DAYLIGHT
TZOFFSETFROM:+0100
TZOFFSETTO:+0200
TZNAME:CEST
DTSTART:20230326T010000
END:DAYLIGHT
BEGIN:STANDARD
TZOFFSETFROM:+0200
TZOFFSETTO:+0100
TZNAME:CET
DTSTART:20231029T010000
END:STANDARD
BEGIN:DAYLIGHT
TZOFFSETFROM:+0100
TZOFFSETTO:+0200
TZNAME:CEST
DTSTART:20240331T010000
END:DAYLIGHT
BEGIN:STANDARD
TZOFFSETFROM:+0200
TZOFFSETTO:+0100
TZNAME:CET
DTSTART:20241027T010000
END:STANDARD
BEGIN:DAYLIGHT
TZOFFSETFROM:+0100
TZOFFSETTO:+0200
TZNAME:CEST
DTSTART:20250330T010000
END:DAYLIGHT
BEGIN:STANDARD
TZOFFSETFROM:+0200
TZOFFSETTO:+0100
TZNAME:CET
DTSTART:20251026T010000
END:STANDARD
END:VTIMEZONE
BEGIN:VEVENT
DTSTART;TZID=Europe/Berlin:20241029T200000
DTEND;TZID=Europe/Berlin:20241029T213000
DTSTAMP:20260425T225919
CREATED:20240606T105231Z
LAST-MODIFIED:20240606T105505Z
UID:2001-1730232000-1730237400@alexandertechnik-paderborn.de
SUMMARY:Präsenz im Alltag - Abendkurs
DESCRIPTION:Verspannungen? Haltungsprobleme? Stress? Wo stehen Sie sich selbst im Weg? Wie können Sie sich von störenden Gewohnheiten befreien? Die Alexandertechnik\,  die sich mit dem Erkennen und Ändern von Gewohnheiten beschäftigt\, hilft Ihnen dabei\, Ihre natürliche Koordination wieder zu gewinnen. Der sanfte und ganzheitliche Ansatz kann viele Beschwerden lindern und Ihre Leistung steigern. Erfahren Sie in diesen Workshop wie die effektive und bewährte Methode Sie in Ihrem Alltag unterstützen kann.Achtsamkeitsübungen und erlebte Anatomie helfen Ihnen dabei\, Ihre eigenen Bewegungsmuster zu erkennen. Anhand alltäglicher Situationen wird demonstriert und geübt\, wie Sie durch bewusstes Innehalten mehr Bewegungsfreiheit und Leichtigkeit erreichen können. \n\n\n\nAnmeldung erfolgt über die VHS Paderborn. \n\n\n\n7 Termine
URL:https://alexandertechnik-paderborn.de/termin/praesenz-im-alltag-abendkurs/
LOCATION:VHS Standort Riemeke\, Erzbergerstr. 26\, Paderborn\, 33102\, Deutschland
CATEGORIES:Termine
ATTACH;FMTTYPE=image/jpeg:https://alexandertechnik-paderborn.de/wp-content/uploads/2020/05/IMG_3837-e1589300696846-scaled.jpg
ORGANIZER;CN="Anne Pommier":MAILTO:info@anne-pommier.com
END:VEVENT
END:VCALENDAR