BEGIN:VCALENDAR
VERSION:2.0
PRODID:-//Raum für Alexandertechnik - ECPv6.15.20//NONSGML v1.0//EN
CALSCALE:GREGORIAN
METHOD:PUBLISH
X-ORIGINAL-URL:https://alexandertechnik-paderborn.de
X-WR-CALDESC:Veranstaltungen für Raum für Alexandertechnik
REFRESH-INTERVAL;VALUE=DURATION:PT1H
X-Robots-Tag:noindex
X-PUBLISHED-TTL:PT1H
BEGIN:VTIMEZONE
TZID:Europe/Berlin
BEGIN:DAYLIGHT
TZOFFSETFROM:+0100
TZOFFSETTO:+0200
TZNAME:CEST
DTSTART:20230326T010000
END:DAYLIGHT
BEGIN:STANDARD
TZOFFSETFROM:+0200
TZOFFSETTO:+0100
TZNAME:CET
DTSTART:20231029T010000
END:STANDARD
BEGIN:DAYLIGHT
TZOFFSETFROM:+0100
TZOFFSETTO:+0200
TZNAME:CEST
DTSTART:20240331T010000
END:DAYLIGHT
BEGIN:STANDARD
TZOFFSETFROM:+0200
TZOFFSETTO:+0100
TZNAME:CET
DTSTART:20241027T010000
END:STANDARD
BEGIN:DAYLIGHT
TZOFFSETFROM:+0100
TZOFFSETTO:+0200
TZNAME:CEST
DTSTART:20250330T010000
END:DAYLIGHT
BEGIN:STANDARD
TZOFFSETFROM:+0200
TZOFFSETTO:+0100
TZNAME:CET
DTSTART:20251026T010000
END:STANDARD
END:VTIMEZONE
BEGIN:VEVENT
DTSTART;TZID=Europe/Berlin:20240928T193000
DTEND;TZID=Europe/Berlin:20240928T193000
DTSTAMP:20260426T002040
CREATED:20240909T055653Z
LAST-MODIFIED:20240909T073746Z
UID:2015-1727551800-1727551800@alexandertechnik-paderborn.de
SUMMARY:Klangzeit
DESCRIPTION:Trio Einfach Schön – Till flo* Krapoth\, Andrea Briechle und die Stille – sind wieder mal zu Gast im Raum für Alexandertechnik. Ein besonderes Erlebnis!
URL:https://alexandertechnik-paderborn.de/termin/klangzeit/
LOCATION:Raum für Alexandertechnik\, Rotheweg 7a\, Paderborn\, 33102\, Deutschland
CATEGORIES:Termine
ATTACH;FMTTYPE=image/jpeg:https://alexandertechnik-paderborn.de/wp-content/uploads/2017/06/2ausserirdische-e1620402062303.jpg
ORGANIZER;CN="Anne Pommier":MAILTO:info@anne-pommier.com
END:VEVENT
BEGIN:VEVENT
DTSTART;TZID=Europe/Berlin:20240929T110000
DTEND;TZID=Europe/Berlin:20240929T180000
DTSTAMP:20260426T002040
CREATED:20240909T055058Z
LAST-MODIFIED:20240909T055059Z
UID:2013-1727607600-1727632800@alexandertechnik-paderborn.de
SUMMARY:Tag der offenen Tür
DESCRIPTION:Herzlich Willkommen im Raum für Alexandertechnik. Einzelarbeit\, Liegesessions und andere Angebote zum kennenlernen und einfach geniessen.
URL:https://alexandertechnik-paderborn.de/termin/tag-der-offenen-tuer-2/
LOCATION:Raum für Alexandertechnik\, Rotheweg 7a\, Paderborn\, 33102\, Deutschland
CATEGORIES:Termine
ATTACH;FMTTYPE=image/jpeg:https://alexandertechnik-paderborn.de/wp-content/uploads/2022/08/IMG_20220829_101335.jpg
ORGANIZER;CN="Anne Pommier":MAILTO:info@anne-pommier.com
END:VEVENT
BEGIN:VEVENT
DTSTART;TZID=Europe/Berlin:20240930T180000
DTEND;TZID=Europe/Berlin:20240930T190000
DTSTAMP:20260426T002040
CREATED:20240909T075936Z
LAST-MODIFIED:20240909T084137Z
UID:2020-1727719200-1727722800@alexandertechnik-paderborn.de
SUMMARY:Runterkommen\, um anders raufzu kommen
DESCRIPTION:Den Boden spüren\, sich tragen lassen\, neue Aufrichtung entdecken. \n\n\n\nEinfach wohltuend. \n\n\n\nAngeleitete somatische Bewegungseinheit auf der Basis vom Alexandertechnik und frühkindlichen Bewegungsabläufe.  \n\n\n\nAnne Pommier hat zeitgenössischesTanz studiert\, mit Schwerpunkt Release Technique\, Contact Impro und Improvisation und begleitet seit 25 Jahre Menschen in Bewegung.
URL:https://alexandertechnik-paderborn.de/termin/runterkommen-um-anders-raufzu-kommen-3/
LOCATION:Raum für Alexandertechnik\, Rotheweg 7a\, Paderborn\, 33102\, Deutschland
CATEGORIES:Termine
ATTACH;FMTTYPE=image/jpeg:https://alexandertechnik-paderborn.de/wp-content/uploads/2021/03/20210225_105621-scaled.jpg
ORGANIZER;CN="Anne Pommier":MAILTO:info@anne-pommier.com
END:VEVENT
END:VCALENDAR