BEGIN:VCALENDAR
VERSION:2.0
PRODID:-//Raum für Alexandertechnik - ECPv6.15.20//NONSGML v1.0//EN
CALSCALE:GREGORIAN
METHOD:PUBLISH
X-WR-CALNAME:Raum für Alexandertechnik
X-ORIGINAL-URL:https://alexandertechnik-paderborn.de
X-WR-CALDESC:Veranstaltungen für Raum für Alexandertechnik
REFRESH-INTERVAL;VALUE=DURATION:PT1H
X-Robots-Tag:noindex
X-PUBLISHED-TTL:PT1H
BEGIN:VTIMEZONE
TZID:Europe/Berlin
BEGIN:DAYLIGHT
TZOFFSETFROM:+0100
TZOFFSETTO:+0200
TZNAME:CEST
DTSTART:20230326T010000
END:DAYLIGHT
BEGIN:STANDARD
TZOFFSETFROM:+0200
TZOFFSETTO:+0100
TZNAME:CET
DTSTART:20231029T010000
END:STANDARD
BEGIN:DAYLIGHT
TZOFFSETFROM:+0100
TZOFFSETTO:+0200
TZNAME:CEST
DTSTART:20240331T010000
END:DAYLIGHT
BEGIN:STANDARD
TZOFFSETFROM:+0200
TZOFFSETTO:+0100
TZNAME:CET
DTSTART:20241027T010000
END:STANDARD
BEGIN:DAYLIGHT
TZOFFSETFROM:+0100
TZOFFSETTO:+0200
TZNAME:CEST
DTSTART:20250330T010000
END:DAYLIGHT
BEGIN:STANDARD
TZOFFSETFROM:+0200
TZOFFSETTO:+0100
TZNAME:CET
DTSTART:20251026T010000
END:STANDARD
END:VTIMEZONE
BEGIN:VEVENT
DTSTART;TZID=Europe/Berlin:20240603T103000
DTEND;TZID=Europe/Berlin:20240603T120000
DTSTAMP:20260426T044432
CREATED:20240527T122744Z
LAST-MODIFIED:20240527T122746Z
UID:1984-1717410600-1717416000@alexandertechnik-paderborn.de
SUMMARY:Elterngespräche
DESCRIPTION:Offene Gesprächskreis einmal im Monat für werdende Eltern und Eltern mit Babys und Kleinkinder. Sich mitteilen in eine kleine vertrauliche Runde über die Freuden und Herausforderungen des Alltags. Einfach zuhören und gehört werden ist etwas kostbares\, dass wir uns selbst und uns gegenseitig schenken können. \n\n\n\n„Wenn eine Mutter nicht nach Rat gebeten hat\, braucht sie vielleicht keine“ (Naomi Stadeln
URL:https://alexandertechnik-paderborn.de/termin/elterngespraeche-3/
CATEGORIES:Termine
ATTACH;FMTTYPE=image/jpeg:https://alexandertechnik-paderborn.de/wp-content/uploads/2022/03/DSC02202-e1701699484270.jpg
END:VEVENT
END:VCALENDAR