BEGIN:VCALENDAR
VERSION:2.0
PRODID:-//Raum für Alexandertechnik - ECPv6.15.20//NONSGML v1.0//EN
CALSCALE:GREGORIAN
METHOD:PUBLISH
X-WR-CALNAME:Raum für Alexandertechnik
X-ORIGINAL-URL:https://alexandertechnik-paderborn.de
X-WR-CALDESC:Veranstaltungen für Raum für Alexandertechnik
REFRESH-INTERVAL;VALUE=DURATION:PT1H
X-Robots-Tag:noindex
X-PUBLISHED-TTL:PT1H
BEGIN:VTIMEZONE
TZID:Europe/Berlin
BEGIN:DAYLIGHT
TZOFFSETFROM:+0100
TZOFFSETTO:+0200
TZNAME:CEST
DTSTART:20250330T010000
END:DAYLIGHT
BEGIN:STANDARD
TZOFFSETFROM:+0200
TZOFFSETTO:+0100
TZNAME:CET
DTSTART:20251026T010000
END:STANDARD
BEGIN:DAYLIGHT
TZOFFSETFROM:+0100
TZOFFSETTO:+0200
TZNAME:CEST
DTSTART:20260329T010000
END:DAYLIGHT
BEGIN:STANDARD
TZOFFSETFROM:+0200
TZOFFSETTO:+0100
TZNAME:CET
DTSTART:20261025T010000
END:STANDARD
BEGIN:DAYLIGHT
TZOFFSETFROM:+0100
TZOFFSETTO:+0200
TZNAME:CEST
DTSTART:20270328T010000
END:DAYLIGHT
BEGIN:STANDARD
TZOFFSETFROM:+0200
TZOFFSETTO:+0100
TZNAME:CET
DTSTART:20271031T010000
END:STANDARD
END:VTIMEZONE
BEGIN:VEVENT
DTSTART;TZID=Europe/Berlin:20260222T140000
DTEND;TZID=Europe/Berlin:20260222T170000
DTSTAMP:20260421T004947
CREATED:20250922T095745Z
LAST-MODIFIED:20260109T093255Z
UID:2181-1771768800-1771779600@alexandertechnik-paderborn.de
SUMMARY:Leichtigkeit lernen
DESCRIPTION:Verspannungen? Haltungsprobleme? Stress? Wo stehen Sie sich selbst im Weg? Wie können Sie sich von störenden Gewohnheiten befreien? Die Alexandertechnik\, eine pädagogische Methode\, benannt nach ihrem Begründer Frederick Matthias Alexander\, einem australischen Schauspiellehrer\, die sich mit dem Erkennen undÄndern von Gewohnheiten beschäftigt\, hilft Ihnen dabei\, Ihre natürliche Koordination wieder zu gewinnen. Der sanfte und ganzheitliche Ansatz kann viele Beschwerden lindern und Ihre Leistung steigern. Erfahren Sie in diesen Workshop wie die effektive und bewährte Methode Sie in Ihrem Alltag unterstützen kann. \n\n\n\nAchtsamkeitsübungen und erlebte Anatomie helfen Ihnen dabei\, Ihre eigenen Bewegungsmuster zu erkennen. \n\n\n\nAnhand alltäglicher Situationen wird demonstriert und geübt\, wie Sie durch bewusstes Innehalten mehr Bewegungsfreiheit und Leichtigkeit erreichen können. \n\n\n\nAnmeldung über die VHS
URL:https://alexandertechnik-paderborn.de/termin/leichtigkeit-lernen-5/
LOCATION:VHS Bad Lippspringe\, Haus Hartmann\, Kirchplatz 1\, Bad Lippspringe\, Germany
CATEGORIES:Termine
ATTACH;FMTTYPE=image/jpeg:https://alexandertechnik-paderborn.de/wp-content/uploads/2024/10/DSC01322-scaled-e1733228260405.jpg
ORGANIZER;CN="Anne Pommier":MAILTO:info@anne-pommier.com
END:VEVENT
END:VCALENDAR