BEGIN:VCALENDAR
VERSION:2.0
PRODID:-//Raum für Alexandertechnik - ECPv6.15.20//NONSGML v1.0//EN
CALSCALE:GREGORIAN
METHOD:PUBLISH
X-ORIGINAL-URL:https://alexandertechnik-paderborn.de
X-WR-CALDESC:Veranstaltungen für Raum für Alexandertechnik
REFRESH-INTERVAL;VALUE=DURATION:PT1H
X-Robots-Tag:noindex
X-PUBLISHED-TTL:PT1H
BEGIN:VTIMEZONE
TZID:Europe/Berlin
BEGIN:DAYLIGHT
TZOFFSETFROM:+0100
TZOFFSETTO:+0200
TZNAME:CEST
DTSTART:20240331T010000
END:DAYLIGHT
BEGIN:STANDARD
TZOFFSETFROM:+0200
TZOFFSETTO:+0100
TZNAME:CET
DTSTART:20241027T010000
END:STANDARD
BEGIN:DAYLIGHT
TZOFFSETFROM:+0100
TZOFFSETTO:+0200
TZNAME:CEST
DTSTART:20250330T010000
END:DAYLIGHT
BEGIN:STANDARD
TZOFFSETFROM:+0200
TZOFFSETTO:+0100
TZNAME:CET
DTSTART:20251026T010000
END:STANDARD
BEGIN:DAYLIGHT
TZOFFSETFROM:+0100
TZOFFSETTO:+0200
TZNAME:CEST
DTSTART:20260329T010000
END:DAYLIGHT
BEGIN:STANDARD
TZOFFSETFROM:+0200
TZOFFSETTO:+0100
TZNAME:CET
DTSTART:20261025T010000
END:STANDARD
END:VTIMEZONE
BEGIN:VEVENT
DTSTART;TZID=Europe/Berlin:20251204T103000
DTEND;TZID=Europe/Berlin:20251204T113000
DTSTAMP:20260421T035929
CREATED:20251128T162425Z
LAST-MODIFIED:20251128T162513Z
UID:2212-1764844200-1764847800@alexandertechnik-paderborn.de
SUMMARY:Eltern-Kind-Tanz
DESCRIPTION:Gemeinsam in Bewegung kommen. Ausgleich\, Balance und Lebensfreude finden!  \n\n\n\nFür Eltern mit Kindern von ca. 24 Monaten. \n\n\n\nMIni-Kurs – max. 3 Eltern-Kind-Paare.
URL:https://alexandertechnik-paderborn.de/termin/eltern-kind-tanz/
LOCATION:Raum für Alexandertechnik\, Rotheweg 7a\, Paderborn\, 33102\, Deutschland
CATEGORIES:Termine
ATTACH;FMTTYPE=image/jpeg:https://alexandertechnik-paderborn.de/wp-content/uploads/2025/11/IMG_20220829_101309.jpg
ORGANIZER;CN="Anne Pommier":MAILTO:info@anne-pommier.com
END:VEVENT
END:VCALENDAR