BEGIN:VCALENDAR
VERSION:2.0
PRODID:-//Raum für Alexandertechnik - ECPv6.15.20//NONSGML v1.0//EN
CALSCALE:GREGORIAN
METHOD:PUBLISH
X-WR-CALNAME:Raum für Alexandertechnik
X-ORIGINAL-URL:https://alexandertechnik-paderborn.de
X-WR-CALDESC:Veranstaltungen für Raum für Alexandertechnik
REFRESH-INTERVAL;VALUE=DURATION:PT1H
X-Robots-Tag:noindex
X-PUBLISHED-TTL:PT1H
BEGIN:VTIMEZONE
TZID:Europe/Berlin
BEGIN:DAYLIGHT
TZOFFSETFROM:+0100
TZOFFSETTO:+0200
TZNAME:CEST
DTSTART:20240331T010000
END:DAYLIGHT
BEGIN:STANDARD
TZOFFSETFROM:+0200
TZOFFSETTO:+0100
TZNAME:CET
DTSTART:20241027T010000
END:STANDARD
BEGIN:DAYLIGHT
TZOFFSETFROM:+0100
TZOFFSETTO:+0200
TZNAME:CEST
DTSTART:20250330T010000
END:DAYLIGHT
BEGIN:STANDARD
TZOFFSETFROM:+0200
TZOFFSETTO:+0100
TZNAME:CET
DTSTART:20251026T010000
END:STANDARD
BEGIN:DAYLIGHT
TZOFFSETFROM:+0100
TZOFFSETTO:+0200
TZNAME:CEST
DTSTART:20260329T010000
END:DAYLIGHT
BEGIN:STANDARD
TZOFFSETFROM:+0200
TZOFFSETTO:+0100
TZNAME:CET
DTSTART:20261025T010000
END:STANDARD
END:VTIMEZONE
BEGIN:VEVENT
DTSTART;TZID=Europe/Berlin:20251128T100000
DTEND;TZID=Europe/Berlin:20251128T113000
DTSTAMP:20260421T083401
CREATED:20251106T074446Z
LAST-MODIFIED:20251107T121907Z
UID:2194-1764324000-1764329400@alexandertechnik-paderborn.de
SUMMARY:Stabilität-Fokus-ich-Stärke
DESCRIPTION:Wyda-Mini-Kurs mit Katrin Wolf \n\n\n\nFreitags\, 7 Termine: 28.11  – 19.12; 9.01 – 23.01. \n\n\n\nMax. 4 Teilnehmer:innen\, buchbar als 4 Termine 140€ oder 7 Termine 200€
URL:https://alexandertechnik-paderborn.de/termin/stabilitaet-fokus-ich-staerke/
LOCATION:Raum für Alexandertechnik\, Rotheweg 7a\, Paderborn\, 33102\, Deutschland
CATEGORIES:Termine
ATTACH;FMTTYPE=image/jpeg:https://alexandertechnik-paderborn.de/wp-content/uploads/2024/11/IMG_20240623_074427-scaled.jpg
ORGANIZER;CN="Katrin Wolf":MAILTO:mail@katrin-wolf.de
END:VEVENT
END:VCALENDAR