BEGIN:VCALENDAR
VERSION:2.0
PRODID:-//Raum für Alexandertechnik - ECPv6.15.20//NONSGML v1.0//EN
CALSCALE:GREGORIAN
METHOD:PUBLISH
X-WR-CALNAME:Raum für Alexandertechnik
X-ORIGINAL-URL:https://alexandertechnik-paderborn.de
X-WR-CALDESC:Veranstaltungen für Raum für Alexandertechnik
REFRESH-INTERVAL;VALUE=DURATION:PT1H
X-Robots-Tag:noindex
X-PUBLISHED-TTL:PT1H
BEGIN:VTIMEZONE
TZID:Europe/Berlin
BEGIN:DAYLIGHT
TZOFFSETFROM:+0100
TZOFFSETTO:+0200
TZNAME:CEST
DTSTART:20240331T010000
END:DAYLIGHT
BEGIN:STANDARD
TZOFFSETFROM:+0200
TZOFFSETTO:+0100
TZNAME:CET
DTSTART:20241027T010000
END:STANDARD
BEGIN:DAYLIGHT
TZOFFSETFROM:+0100
TZOFFSETTO:+0200
TZNAME:CEST
DTSTART:20250330T010000
END:DAYLIGHT
BEGIN:STANDARD
TZOFFSETFROM:+0200
TZOFFSETTO:+0100
TZNAME:CET
DTSTART:20251026T010000
END:STANDARD
BEGIN:DAYLIGHT
TZOFFSETFROM:+0100
TZOFFSETTO:+0200
TZNAME:CEST
DTSTART:20260329T010000
END:DAYLIGHT
BEGIN:STANDARD
TZOFFSETFROM:+0200
TZOFFSETTO:+0100
TZNAME:CET
DTSTART:20261025T010000
END:STANDARD
END:VTIMEZONE
BEGIN:VEVENT
DTSTART;TZID=Europe/Berlin:20250509T180000
DTEND;TZID=Europe/Berlin:20250511T160000
DTSTAMP:20260425T131911
CREATED:20241112T122809Z
LAST-MODIFIED:20250313T090335Z
UID:2046-1746813600-1746979200@alexandertechnik-paderborn.de
SUMMARY:Bewege Dein Leben!
DESCRIPTION:Deine Lebensthemen in Bewegung bringen\, alltäglich\, spielerisch\, echt. Zeuge füreinander sein\, authentisch in Bewegung und in Begegnung mit Mensch und Natur. Eine Auszeit\, die dich zu dir selbst hinführt. \n\n\n\n \n\n\n\n\nWir arbeiten aus der Stille heraus\, drinnen und draussen. Berührt werden\, von das was sich zeigt. Wir ent-decken dabei unsere Lebendigkeit\, unsere Bewegungsfreude. \n\n\n\nWochenendseminar auf der Basis von Amerta Movement & Tufnell\, offen für alle\, mit und ohne Vorerfahrung. \n\n\n\nWer von weiter weg kommt\, oder sich eine richtige Retreat gönnen möchte\, kann im schönen Haus Danijela übernachten. Danijela verköstigt uns vegetarisch und vorwiegend bio. \n\n\n\nBeginn: 9. Mai 18 Uhr \n\n\n\n \n\n\n\n\n \n\n\n\nWer diese Arbeit erst kennenlernen will\, ist herzlich eingeladen in die Übungsgruppe zu kommen. Termine auf Anfrage.
URL:https://alexandertechnik-paderborn.de/termin/beweg-dein-leben/
LOCATION:Haus Danijela\, Brunnenstr.5\, Oberntudorf\, Salzkotten\, 33154\, Germany
CATEGORIES:Termine
ATTACH;FMTTYPE=image/jpeg:https://alexandertechnik-paderborn.de/wp-content/uploads/2024/11/DSC01973-scaled-e1733828890965.jpg
ORGANIZER;CN="Anne Pommier":MAILTO:info@anne-pommier.com
END:VEVENT
END:VCALENDAR