BEGIN:VCALENDAR
VERSION:2.0
PRODID:-//Raum für Alexandertechnik - ECPv6.15.20//NONSGML v1.0//EN
CALSCALE:GREGORIAN
METHOD:PUBLISH
X-ORIGINAL-URL:https://alexandertechnik-paderborn.de
X-WR-CALDESC:Veranstaltungen für Raum für Alexandertechnik
REFRESH-INTERVAL;VALUE=DURATION:PT1H
X-Robots-Tag:noindex
X-PUBLISHED-TTL:PT1H
BEGIN:VTIMEZONE
TZID:Europe/Berlin
BEGIN:DAYLIGHT
TZOFFSETFROM:+0100
TZOFFSETTO:+0200
TZNAME:CEST
DTSTART:20240331T010000
END:DAYLIGHT
BEGIN:STANDARD
TZOFFSETFROM:+0200
TZOFFSETTO:+0100
TZNAME:CET
DTSTART:20241027T010000
END:STANDARD
BEGIN:DAYLIGHT
TZOFFSETFROM:+0100
TZOFFSETTO:+0200
TZNAME:CEST
DTSTART:20250330T010000
END:DAYLIGHT
BEGIN:STANDARD
TZOFFSETFROM:+0200
TZOFFSETTO:+0100
TZNAME:CET
DTSTART:20251026T010000
END:STANDARD
BEGIN:DAYLIGHT
TZOFFSETFROM:+0100
TZOFFSETTO:+0200
TZNAME:CEST
DTSTART:20260329T010000
END:DAYLIGHT
BEGIN:STANDARD
TZOFFSETFROM:+0200
TZOFFSETTO:+0100
TZNAME:CET
DTSTART:20261025T010000
END:STANDARD
END:VTIMEZONE
BEGIN:VEVENT
DTSTART;TZID=Europe/Berlin:20250205T110000
DTEND;TZID=Europe/Berlin:20250205T120000
DTSTAMP:20260425T182955
CREATED:20250127T140035Z
LAST-MODIFIED:20250127T140036Z
UID:2100-1738753200-1738756800@alexandertechnik-paderborn.de
SUMMARY:Standing with the earth
DESCRIPTION:Standing with the Earth ist ein Aufruf zum gemeinsamen Innehalten und Wahrnehmen in Zeiten tiefgrei­fender Krise und Ratlosigkeit. \n\n\n\nMit einer Einführung ab 11:00 Uhr und Gehmeditation. Wir treffen uns an der Stadtbibliothek und gehen gemeinsam in Stille zum Marktplatz. \n\n\n\n„Wir können den so dringend nötigen Wandel nicht per Kraftakt herbei­führen. Der Weisheit zu lauschen\, die allem Lebendigen innewohnt\, kann uns helfen\, weder in lähmende Verzweiflung\, noch in blinden Aktionismus zu verfallen. Die Verbun­denheit mit der Erde wieder spüren – das gehört im Moment vielleicht zum Radikalsten was wir tun können: zärtlich\, solidarisch und unbeirrbar. \n\n\n\nWir stehen mit der Erde. Wir verlangsamen\, wir spüren was ist\, werden gegenwärtig \, erleben uns als untrennbarer Teil des Organismus Erde. Ganz allmählich wachsen und sinken wir in das Bewusstsein hinein\, dass wir als die Erde dastehen.“ \n\n\n\nhttps://wahrnehmen.org/standingwiththeearth
URL:https://alexandertechnik-paderborn.de/termin/standing-with-the-earth-2/
CATEGORIES:Termine
ATTACH;FMTTYPE=image/jpeg:https://alexandertechnik-paderborn.de/wp-content/uploads/2024/05/standing_feet-e1733260225841.jpeg
ORGANIZER;CN="Anne Pommier":MAILTO:info@anne-pommier.com
END:VEVENT
BEGIN:VEVENT
DTSTART;TZID=Europe/Berlin:20250205T193000
DTEND;TZID=Europe/Berlin:20250205T210000
DTSTAMP:20260425T182955
CREATED:20250115T091734Z
LAST-MODIFIED:20250115T092223Z
UID:2093-1738783800-1738789200@alexandertechnik-paderborn.de
SUMMARY:Grundlagen der Contact Improvisation
DESCRIPTION:Bei der Tanzform Contact-Improvisation kommen zwei oder mehr Menschen zusammen\, um gemeinsam den Bewegungsfluss zu folgen und ein dynamisches Gleichgewicht zu finden. Führen\, folgen\, tragen und getragen werden wechseln sich ab. \n\n\n\nWir üben die Grundlagen diese Tanzform und bauen darauf auf. So lernen Sie\, immer mehr Gewicht abzugeben und zu nehmen\, und sich selber und den Bewegungsfluss zu vertrauen. Wir forschen spielerisch und achtsam miteinander. So darf Genuss und Spaß im Vordergrund stehen.
URL:https://alexandertechnik-paderborn.de/termin/grundlagen-der-contact-improvisation/
LOCATION:VHS Standort Riemeke\, Erzbergerstr. 26\, Paderborn\, 33102\, Deutschland
CATEGORIES:Termine
ATTACH;FMTTYPE=image/jpeg:https://alexandertechnik-paderborn.de/wp-content/uploads/2017/06/Jam_bild1.jpg
ORGANIZER;CN="Anne Pommier":MAILTO:info@anne-pommier.com
END:VEVENT
END:VCALENDAR